Package: omicade4 Version: 1.46.0 Command: rm -rf omicade4.buildbin-libdir && mkdir omicade4.buildbin-libdir && /Users/biocbuild/BBS/utils/build-universal.sh omicade4_1.46.0.tar.gz /Library/Frameworks/R.framework/Resources/bin/R omicade4.buildbin-libdir StartedAt: 2025-02-12 16:13:55 -0500 (Wed, 12 Feb 2025) EndedAt: 2025-02-12 16:14:22 -0500 (Wed, 12 Feb 2025) EllapsedTime: 27.2 seconds RetCode: 0 Status: OK PackageFile: omicade4_1.46.0.tgz PackageFileSize: 612 KiB