Package: omicRexposome Version: 1.28.0 Command: chmod a+r omicRexposome -R && F:\biocbuild\bbs-3.20-bioc\R\bin\R.exe CMD build --keep-empty-dirs --no-resave-data omicRexposome StartedAt: 2025-03-31 20:40:43 -0400 (Mon, 31 Mar 2025) EndedAt: 2025-03-31 21:20:44 -0400 (Mon, 31 Mar 2025) EllapsedTime: 2401.4 seconds RetCode: None Status: TIMEOUT PackageFile: None PackageFileSize: NA