Package: omicRexposome Version: 1.28.0 Command: /home/biocbuild/bbs-3.20-bioc/R/bin/R CMD build --keep-empty-dirs --no-resave-data --md5 omicRexposome StartedAt: 2025-01-27 19:19:07 -0500 (Mon, 27 Jan 2025) EndedAt: 2025-01-27 19:30:09 -0500 (Mon, 27 Jan 2025) EllapsedTime: 662.0 seconds RetCode: 0 Status: OK PackageFile: omicRexposome_1.28.0.tar.gz PackageFileSize: 2.607 MiB