Package: omicRexposome Version: 1.28.0 Command: /Library/Frameworks/R.framework/Resources/bin/R CMD build --keep-empty-dirs --no-resave-data omicRexposome StartedAt: 2025-03-31 20:42:21 -0400 (Mon, 31 Mar 2025) EndedAt: 2025-03-31 21:02:50 -0400 (Mon, 31 Mar 2025) EllapsedTime: 1229.3 seconds RetCode: 0 Status: OK PackageFile: omicRexposome_1.28.0.tar.gz PackageFileSize: 2.589 MiB