Package: omada Version: 1.8.0 Command: chmod a+r omada -R && F:\biocbuild\bbs-3.20-bioc\R\bin\R.exe CMD build --keep-empty-dirs --no-resave-data omada StartedAt: 2025-01-27 20:42:48 -0500 (Mon, 27 Jan 2025) EndedAt: 2025-01-27 20:45:36 -0500 (Mon, 27 Jan 2025) EllapsedTime: 168.4 seconds RetCode: 0 Status: OK PackageFile: omada_1.8.0.tar.gz PackageFileSize: 83.22 KiB