Package: omada Version: 1.8.0 Command: /Library/Frameworks/R.framework/Resources/bin/R CMD check --install=check:omada.install-out.txt --library=/Library/Frameworks/R.framework/Resources/library --no-vignettes --timings omada_1.8.0.tar.gz StartedAt: 2025-01-29 03:19:11 -0500 (Wed, 29 Jan 2025) EndedAt: 2025-01-29 03:30:50 -0500 (Wed, 29 Jan 2025) EllapsedTime: 699.4 seconds RetCode: 0 Status: OK CheckDir: omada.Rcheck Warnings: 0