Package: omada Version: 1.8.0 Command: /Library/Frameworks/R.framework/Resources/bin/R CMD build --keep-empty-dirs --no-resave-data omada StartedAt: 2025-01-28 04:43:59 -0500 (Tue, 28 Jan 2025) EndedAt: 2025-01-28 04:46:13 -0500 (Tue, 28 Jan 2025) EllapsedTime: 134.3 seconds RetCode: 0 Status: OK PackageFile: omada_1.8.0.tar.gz PackageFileSize: 202.7 KiB