Package: oligoClasses Version: 1.68.0 Command: /home/biocbuild/R/R/bin/R CMD INSTALL oligoClasses StartedAt: 2025-01-27 21:15:56 -0000 (Mon, 27 Jan 2025) EndedAt: 2025-01-27 21:16:42 -0000 (Mon, 27 Jan 2025) EllapsedTime: 46.5 seconds RetCode: 0 Status: OK