Package: oligoClasses Version: 1.68.0 Command: /Library/Frameworks/R.framework/Resources/bin/R CMD INSTALL oligoClasses StartedAt: 2025-03-31 15:22:59 -0400 (Mon, 31 Mar 2025) EndedAt: 2025-03-31 15:24:20 -0400 (Mon, 31 Mar 2025) EllapsedTime: 80.9 seconds RetCode: 0 Status: OK