Package: oligoClasses Version: 1.68.0 Command: /Library/Frameworks/R.framework/Resources/bin/R CMD INSTALL oligoClasses StartedAt: 2025-03-31 15:40:47 -0400 (Mon, 31 Mar 2025) EndedAt: 2025-03-31 15:41:28 -0400 (Mon, 31 Mar 2025) EllapsedTime: 40.5 seconds RetCode: 0 Status: OK