Package: oligoClasses Version: 1.68.0 Command: rm -rf oligoClasses.buildbin-libdir && mkdir oligoClasses.buildbin-libdir && /Users/biocbuild/BBS/utils/build-universal.sh oligoClasses_1.68.0.tar.gz /Library/Frameworks/R.framework/Resources/bin/R oligoClasses.buildbin-libdir StartedAt: 2025-01-29 15:47:01 -0500 (Wed, 29 Jan 2025) EndedAt: 2025-01-29 15:47:47 -0500 (Wed, 29 Jan 2025) EllapsedTime: 46.0 seconds RetCode: 0 Status: OK PackageFile: oligoClasses_1.68.0.tgz PackageFileSize: 1.367 MiB