Package: oligo Version: 1.70.0 Command: /home/biocbuild/R/R/bin/R CMD INSTALL oligo StartedAt: 2025-01-27 21:16:42 -0000 (Mon, 27 Jan 2025) EndedAt: 2025-01-27 21:17:26 -0000 (Mon, 27 Jan 2025) EllapsedTime: 43.9 seconds RetCode: 0 Status: OK