Package: oligo Version: 1.70.0 Command: /home/biocbuild/bbs-3.20-bioc/R/bin/R CMD check --install=check:oligo.install-out.txt --library=/home/biocbuild/bbs-3.20-bioc/R/site-library --timings oligo_1.70.0.tar.gz StartedAt: 2025-01-28 01:32:36 -0500 (Tue, 28 Jan 2025) EndedAt: 2025-01-28 01:37:37 -0500 (Tue, 28 Jan 2025) EllapsedTime: 301.3 seconds RetCode: 0 Status: WARNINGS CheckDir: oligo.Rcheck Warnings: 4