Package: oligo Version: 1.70.0 Command: /home/biocbuild/bbs-3.20-bioc/R/bin/R CMD build --keep-empty-dirs --no-resave-data --md5 oligo StartedAt: 2025-02-03 18:32:57 -0500 (Mon, 03 Feb 2025) EndedAt: 2025-02-03 18:33:32 -0500 (Mon, 03 Feb 2025) EllapsedTime: 35.0 seconds RetCode: 0 Status: OK PackageFile: oligo_1.70.0.tar.gz PackageFileSize: 27.11 MiB