Package: oligo Version: 1.70.0 Command: rm -rf oligo.buildbin-libdir && mkdir oligo.buildbin-libdir && /Users/biocbuild/BBS/utils/build-universal.sh oligo_1.70.0.tar.gz /Library/Frameworks/R.framework/Resources/bin/R oligo.buildbin-libdir StartedAt: 2025-01-28 13:58:00 -0500 (Tue, 28 Jan 2025) EndedAt: 2025-01-28 14:00:23 -0500 (Tue, 28 Jan 2025) EllapsedTime: 142.9 seconds RetCode: 0 Status: OK PackageFile: oligo_1.70.0.tgz PackageFileSize: 27.85 MiB