Package: oligo Version: 1.70.0 Command: /Library/Frameworks/R.framework/Resources/bin/R CMD check --install=check:oligo.install-out.txt --library=/Library/Frameworks/R.framework/Resources/library --no-vignettes --timings oligo_1.70.0.tar.gz StartedAt: 2025-02-05 04:13:12 -0500 (Wed, 05 Feb 2025) EndedAt: 2025-02-05 04:19:33 -0500 (Wed, 05 Feb 2025) EllapsedTime: 380.3 seconds RetCode: 0 Status: WARNINGS CheckDir: oligo.Rcheck Warnings: 4