Package: oligo Version: 1.70.0 Command: /Library/Frameworks/R.framework/Resources/bin/R CMD build --keep-empty-dirs --no-resave-data oligo StartedAt: 2025-02-04 04:52:31 -0500 (Tue, 04 Feb 2025) EndedAt: 2025-02-04 04:53:19 -0500 (Tue, 04 Feb 2025) EllapsedTime: 47.9 seconds RetCode: 0 Status: OK PackageFile: oligo_1.70.0.tar.gz PackageFileSize: 27.1 MiB