Package: oligo Version: 1.70.0 Command: rm -rf oligo.buildbin-libdir && mkdir oligo.buildbin-libdir && /Users/biocbuild/BBS/utils/build-universal.sh oligo_1.70.0.tar.gz /Library/Frameworks/R.framework/Resources/bin/R oligo.buildbin-libdir StartedAt: 2025-02-05 16:59:15 -0500 (Wed, 05 Feb 2025) EndedAt: 2025-02-05 17:00:03 -0500 (Wed, 05 Feb 2025) EllapsedTime: 48.2 seconds RetCode: 0 Status: OK PackageFile: oligo_1.70.0.tgz PackageFileSize: 27.85 MiB