Package: odseq Version: 1.34.0 Command: /home/biocbuild/bbs-3.20-bioc/R/bin/R CMD check --install=check:odseq.install-out.txt --library=/home/biocbuild/bbs-3.20-bioc/R/site-library --timings odseq_1.34.0.tar.gz StartedAt: 2025-04-01 00:34:11 -0400 (Tue, 01 Apr 2025) EndedAt: 2025-04-01 00:36:11 -0400 (Tue, 01 Apr 2025) EllapsedTime: 120.2 seconds RetCode: 0 Status: OK CheckDir: odseq.Rcheck Warnings: 0