Package: odseq Version: 1.34.0 Command: rm -rf odseq.buildbin-libdir && mkdir odseq.buildbin-libdir && /Users/biocbuild/BBS/utils/build-universal.sh odseq_1.34.0.tar.gz /Library/Frameworks/R.framework/Resources/bin/R odseq.buildbin-libdir StartedAt: 2024-11-09 17:02:33 -0500 (Sat, 09 Nov 2024) EndedAt: 2024-11-09 17:02:40 -0500 (Sat, 09 Nov 2024) EllapsedTime: 7.1 seconds RetCode: 0 Status: OK PackageFile: odseq_1.34.0.tgz PackageFileSize: 249.7 KiB