Package: octad Version: 1.8.0 Command: chmod a+r octad -R && F:\biocbuild\bbs-3.20-bioc\R\bin\R.exe --arch x64 CMD build --keep-empty-dirs --no-resave-data octad StartedAt: 2025-01-27 20:42:10 -0500 (Mon, 27 Jan 2025) EndedAt: 2025-01-27 20:52:26 -0500 (Mon, 27 Jan 2025) EllapsedTime: 616.7 seconds RetCode: 0 Status: OK PackageFile: octad_1.8.0.tar.gz PackageFileSize: 1.179 MiB