Package: octad Version: 1.8.0 Command: /Library/Frameworks/R.framework/Resources/bin/R CMD INSTALL octad StartedAt: 2025-01-27 17:55:16 -0500 (Mon, 27 Jan 2025) EndedAt: 2025-01-27 17:56:22 -0500 (Mon, 27 Jan 2025) EllapsedTime: 65.3 seconds RetCode: 0 Status: OK