Package: octad Version: 1.8.0 Command: rm -rf octad.buildbin-libdir && mkdir octad.buildbin-libdir && /Users/biocbuild/BBS/utils/build-universal.sh octad_1.8.0.tar.gz /Library/Frameworks/R.framework/Resources/bin/R octad.buildbin-libdir StartedAt: 2025-01-29 15:46:37 -0500 (Wed, 29 Jan 2025) EndedAt: 2025-01-29 15:47:47 -0500 (Wed, 29 Jan 2025) EllapsedTime: 69.7 seconds RetCode: 0 Status: OK PackageFile: octad_1.8.0.tgz PackageFileSize: 1.5 MiB