Package: occugene Version: 1.66.0 Command: /home/biocbuild/bbs-3.20-bioc/R/bin/R CMD check --install=check:occugene.install-out.txt --library=/home/biocbuild/bbs-3.20-bioc/R/site-library --timings occugene_1.66.0.tar.gz StartedAt: 2024-11-20 06:50:40 -0500 (Wed, 20 Nov 2024) EndedAt: 2024-11-20 06:50:59 -0500 (Wed, 20 Nov 2024) EllapsedTime: 18.1 seconds RetCode: 0 Status: OK CheckDir: occugene.Rcheck Warnings: 0