Package: occugene Version: 1.66.0 Command: /home/biocbuild/R/R/bin/R CMD check --install=check:occugene.install-out.txt --library=/home/biocbuild/R/R/site-library --no-vignettes --timings occugene_1.66.0.tar.gz StartedAt: 2025-01-28 09:37:32 -0000 (Tue, 28 Jan 2025) EndedAt: 2025-01-28 09:38:00 -0000 (Tue, 28 Jan 2025) EllapsedTime: 28.1 seconds RetCode: 0 Status: OK CheckDir: occugene.Rcheck Warnings: 0