Package: occugene Version: 1.66.0 Command: /home/biocbuild/bbs-3.20-bioc/R/bin/R CMD check --install=check:occugene.install-out.txt --library=/home/biocbuild/bbs-3.20-bioc/R/site-library --timings occugene_1.66.0.tar.gz StartedAt: 2025-04-01 00:33:49 -0400 (Tue, 01 Apr 2025) EndedAt: 2025-04-01 00:34:08 -0400 (Tue, 01 Apr 2025) EllapsedTime: 19.0 seconds RetCode: 0 Status: OK CheckDir: occugene.Rcheck Warnings: 0