Package: occugene Version: 1.66.0 Command: /Library/Frameworks/R.framework/Resources/bin/R CMD build --keep-empty-dirs --no-resave-data occugene StartedAt: 2025-03-31 20:41:05 -0400 (Mon, 31 Mar 2025) EndedAt: 2025-03-31 20:41:22 -0400 (Mon, 31 Mar 2025) EllapsedTime: 16.3 seconds RetCode: 0 Status: OK PackageFile: occugene_1.66.0.tar.gz PackageFileSize: 195.1 KiB