Package: nucleoSim Version: 1.34.0 Command: /home/biocbuild/R/R/bin/R CMD INSTALL nucleoSim StartedAt: 2025-01-30 20:10:37 -0000 (Thu, 30 Jan 2025) EndedAt: 2025-01-30 20:10:45 -0000 (Thu, 30 Jan 2025) EllapsedTime: 7.7 seconds RetCode: 0 Status: OK