Package: nucleoSim Version: 1.34.0 Command: /home/biocbuild/R/R/bin/R CMD build --keep-empty-dirs --no-resave-data nucleoSim StartedAt: 2025-02-04 01:28:24 -0000 (Tue, 04 Feb 2025) EndedAt: 2025-02-04 01:28:45 -0000 (Tue, 04 Feb 2025) EllapsedTime: 21.0 seconds RetCode: 0 Status: OK PackageFile: nucleoSim_1.34.0.tar.gz PackageFileSize: 380.4 KiB