Package: nucleoSim Version: 1.34.0 Command: /Library/Frameworks/R.framework/Resources/bin/R CMD INSTALL nucleoSim StartedAt: 2025-01-27 15:10:18 -0500 (Mon, 27 Jan 2025) EndedAt: 2025-01-27 15:10:26 -0500 (Mon, 27 Jan 2025) EllapsedTime: 8.4 seconds RetCode: 0 Status: OK