Package: nucleoSim Version: 1.34.0 Command: /Library/Frameworks/R.framework/Resources/bin/R CMD check --install=check:nucleoSim.install-out.txt --library=/Library/Frameworks/R.framework/Resources/library --no-vignettes --timings nucleoSim_1.34.0.tar.gz StartedAt: 2025-04-02 03:00:02 -0400 (Wed, 02 Apr 2025) EndedAt: 2025-04-02 03:01:01 -0400 (Wed, 02 Apr 2025) EllapsedTime: 59.3 seconds RetCode: 0 Status: OK CheckDir: nucleoSim.Rcheck Warnings: 0