############################################################################## ############################################################################## ### ### Running command: ### ### /home/biocbuild/bbs-3.20-bioc/R/bin/R CMD INSTALL nucleR ### ############################################################################## ############################################################################## * installing to library ‘/home/biocbuild/bbs-3.20-bioc/R/site-library’ * installing *source* package ‘nucleR’ ... ** using staged installation ** R ** data ** inst ** byte-compile and prepare package for lazy loading Loading required package: usethis Welcome at Mon Mar 31 15:29:49 2025 Goodbye at Mon Mar 31 15:29:59 2025 ** help *** installing help indices ** building package indices Loading required package: usethis Welcome at Mon Mar 31 15:30:00 2025 Goodbye at Mon Mar 31 15:30:00 2025 ** installing vignettes ** testing if installed package can be loaded from temporary location Loading required package: usethis Welcome at Mon Mar 31 15:30:01 2025 Goodbye at Mon Mar 31 15:30:11 2025 ** testing if installed package can be loaded from final location Loading required package: usethis Welcome at Mon Mar 31 15:30:12 2025 Goodbye at Mon Mar 31 15:30:21 2025 ** testing if installed package keeps a record of temporary installation path * DONE (nucleR)