Package: nucleR Version: 2.38.0 Command: /Library/Frameworks/R.framework/Resources/bin/R CMD INSTALL nucleR StartedAt: 2025-03-31 16:18:27 -0400 (Mon, 31 Mar 2025) EndedAt: 2025-03-31 16:19:08 -0400 (Mon, 31 Mar 2025) EllapsedTime: 41.0 seconds RetCode: 0 Status: OK