Package: nuCpos Version: 1.24.0 Command: /Library/Frameworks/R.framework/Resources/bin/R CMD check --install=check:nuCpos.install-out.txt --library=/Library/Frameworks/R.framework/Resources/library --no-vignettes --timings nuCpos_1.24.0.tar.gz StartedAt: 2025-01-28 07:33:41 -0500 (Tue, 28 Jan 2025) EndedAt: 2025-01-28 07:34:48 -0500 (Tue, 28 Jan 2025) EllapsedTime: 67.3 seconds RetCode: 0 Status: OK CheckDir: nuCpos.Rcheck Warnings: 0