Package: nuCpos Version: 1.24.0 Command: /Library/Frameworks/R.framework/Resources/bin/R CMD check --install=check:nuCpos.install-out.txt --library=/Library/Frameworks/R.framework/Resources/library --no-vignettes --timings nuCpos_1.24.0.tar.gz StartedAt: 2025-04-02 03:00:15 -0400 (Wed, 02 Apr 2025) EndedAt: 2025-04-02 03:01:00 -0400 (Wed, 02 Apr 2025) EllapsedTime: 44.8 seconds RetCode: 0 Status: OK CheckDir: nuCpos.Rcheck Warnings: 0