Package: normr Version: 1.32.0 Command: chmod a+r normr -R && F:\biocbuild\bbs-3.20-bioc\R\bin\R.exe CMD build --keep-empty-dirs --no-resave-data normr StartedAt: 2025-03-31 20:38:49 -0400 (Mon, 31 Mar 2025) EndedAt: 2025-03-31 20:40:40 -0400 (Mon, 31 Mar 2025) EllapsedTime: 110.3 seconds RetCode: 0 Status: OK PackageFile: normr_1.32.0.tar.gz PackageFileSize: 2.935 MiB