Package: normr Version: 1.32.0 Command: rm -rf normr.buildbin-libdir && mkdir normr.buildbin-libdir && F:\biocbuild\bbs-3.20-bioc\R\bin\R.exe CMD INSTALL --build --library=normr.buildbin-libdir normr_1.32.0.tar.gz StartedAt: 2025-04-01 08:46:22 -0400 (Tue, 01 Apr 2025) EndedAt: 2025-04-01 08:47:42 -0400 (Tue, 01 Apr 2025) EllapsedTime: 79.6 seconds RetCode: 0 Status: OK PackageFile: normr_1.32.0.zip PackageFileSize: 3.73 MiB