Package: normr Version: 1.32.0 Command: /home/biocbuild/bbs-3.20-bioc/R/bin/R CMD build --keep-empty-dirs --no-resave-data --md5 normr StartedAt: 2025-03-31 18:20:30 -0400 (Mon, 31 Mar 2025) EndedAt: 2025-03-31 18:21:52 -0400 (Mon, 31 Mar 2025) EllapsedTime: 82.1 seconds RetCode: 0 Status: OK PackageFile: normr_1.32.0.tar.gz PackageFileSize: 3.668 MiB