Package: normr Version: 1.32.0 Command: /Library/Frameworks/R.framework/Resources/bin/R CMD build --keep-empty-dirs --no-resave-data normr StartedAt: 2025-04-01 04:26:59 -0400 (Tue, 01 Apr 2025) EndedAt: 2025-04-01 04:28:32 -0400 (Tue, 01 Apr 2025) EllapsedTime: 93.9 seconds RetCode: 0 Status: OK PackageFile: normr_1.32.0.tar.gz PackageFileSize: 3.779 MiB