Package: nondetects Version: 2.36.0 Command: /home/biocbuild/R/R/bin/R CMD build --keep-empty-dirs --no-resave-data nondetects StartedAt: 2025-02-04 01:26:36 -0000 (Tue, 04 Feb 2025) EndedAt: 2025-02-04 01:31:33 -0000 (Tue, 04 Feb 2025) EllapsedTime: 296.6 seconds RetCode: 0 Status: OK PackageFile: nondetects_2.36.0.tar.gz PackageFileSize: 116.7 KiB