Package: nondetects Version: 2.36.0 Command: /Library/Frameworks/R.framework/Resources/bin/R CMD INSTALL nondetects StartedAt: 2025-03-31 15:10:24 -0400 (Mon, 31 Mar 2025) EndedAt: 2025-03-31 15:10:50 -0400 (Mon, 31 Mar 2025) EllapsedTime: 25.2 seconds RetCode: 0 Status: OK