Package: nnSVG Version: 1.10.0 Command: /home/biocbuild/bbs-3.20-bioc/R/bin/R CMD build --keep-empty-dirs --no-resave-data --md5 nnSVG StartedAt: 2025-01-27 19:16:27 -0500 (Mon, 27 Jan 2025) EndedAt: 2025-01-27 19:23:20 -0500 (Mon, 27 Jan 2025) EllapsedTime: 412.7 seconds RetCode: 0 Status: OK PackageFile: nnSVG_1.10.0.tar.gz PackageFileSize: 1.337 MiB