Package: nnNorm Version: 2.70.0 Command: rm -rf nnNorm.buildbin-libdir && mkdir nnNorm.buildbin-libdir && F:\biocbuild\bbs-3.20-bioc\R\bin\R.exe CMD INSTALL --build --library=nnNorm.buildbin-libdir nnNorm_2.70.0.tar.gz StartedAt: 2025-04-01 08:45:51 -0400 (Tue, 01 Apr 2025) EndedAt: 2025-04-01 08:46:03 -0400 (Tue, 01 Apr 2025) EllapsedTime: 11.4 seconds RetCode: 0 Status: OK PackageFile: nnNorm_2.70.0.zip PackageFileSize: 102.3 KiB