Package: nipalsMCIA Version: 1.4.2 Command: /home/biocbuild/R/R/bin/R CMD build --keep-empty-dirs --no-resave-data nipalsMCIA StartedAt: 2025-01-31 01:22:33 -0000 (Fri, 31 Jan 2025) EndedAt: 2025-01-31 01:41:11 -0000 (Fri, 31 Jan 2025) EllapsedTime: 1117.7 seconds RetCode: 0 Status: OK PackageFile: nipalsMCIA_1.4.2.tar.gz PackageFileSize: 3.327 MiB