Package: nipalsMCIA Version: 1.4.2 Command: F:\biocbuild\bbs-3.20-bioc\R\bin\R.exe CMD INSTALL nipalsMCIA StartedAt: 2025-01-27 16:35:17 -0500 (Mon, 27 Jan 2025) EndedAt: 2025-01-27 16:36:01 -0500 (Mon, 27 Jan 2025) EllapsedTime: 44.6 seconds RetCode: 0 Status: OK