Package: nipalsMCIA Version: 1.4.2 Command: F:\biocbuild\bbs-3.20-bioc\R\bin\R.exe CMD check --no-multiarch --install=check:nipalsMCIA.install-out.txt --library=F:\biocbuild\bbs-3.20-bioc\R\library --no-vignettes --timings nipalsMCIA_1.4.2.tar.gz StartedAt: 2025-01-28 04:07:13 -0500 (Tue, 28 Jan 2025) EndedAt: 2025-01-28 04:12:58 -0500 (Tue, 28 Jan 2025) EllapsedTime: 344.8 seconds RetCode: 0 Status: OK CheckDir: nipalsMCIA.Rcheck Warnings: 0