Package: nipalsMCIA Version: 1.4.4 Command: /home/biocbuild/bbs-3.20-bioc/R/bin/R CMD INSTALL nipalsMCIA StartedAt: 2025-03-31 15:43:47 -0400 (Mon, 31 Mar 2025) EndedAt: 2025-03-31 15:44:11 -0400 (Mon, 31 Mar 2025) EllapsedTime: 24.4 seconds RetCode: 0 Status: OK