Package: ngsReports Version: 2.8.0 Command: /home/biocbuild/R/R/bin/R CMD check --install=check:ngsReports.install-out.txt --library=/home/biocbuild/R/R/site-library --no-vignettes --timings ngsReports_2.8.0.tar.gz StartedAt: 2025-02-11 08:42:00 -0000 (Tue, 11 Feb 2025) EndedAt: 2025-02-11 08:45:51 -0000 (Tue, 11 Feb 2025) EllapsedTime: 230.4 seconds RetCode: 0 Status: OK CheckDir: ngsReports.Rcheck Warnings: 0