Package: netresponse Version: 1.66.0 Command: /Library/Frameworks/R.framework/Resources/bin/R CMD INSTALL netresponse StartedAt: 2025-01-27 16:39:19 -0500 (Mon, 27 Jan 2025) EndedAt: 2025-01-27 16:39:43 -0500 (Mon, 27 Jan 2025) EllapsedTime: 24.5 seconds RetCode: 0 Status: OK