Package: netresponse Version: 1.66.0 Command: /home/biocbuild/R/R/bin/R CMD build --keep-empty-dirs --no-resave-data netresponse StartedAt: 2024-11-20 02:34:49 -0000 (Wed, 20 Nov 2024) EndedAt: 2024-11-20 02:35:06 -0000 (Wed, 20 Nov 2024) EllapsedTime: 17.0 seconds RetCode: 0 Status: OK PackageFile: netresponse_1.66.0.tar.gz PackageFileSize: 999.4 KiB